BEGIN:VCALENDAR
VERSION:2.0
PRODID:-//wp-events-plugin.com//7.2.2//EN
BEGIN:VEVENT
UID:586@flyfishing.org.au
DTSTART;TZID=Australia/Melbourne:20260402T193000
DTEND;TZID=Australia/Melbourne:20260402T210000
DTSTAMP:20250718T014743Z
URL:https://flyfishing.org.au/events/monthly-general-meeting-2-2026-04-02/
SUMMARY:Monthly General Meeting
DESCRIPTION:Join us for our General Club Meeting\, held at the clubrooms an
 d open to all members and visitors. It’s a great opportunity to catch up
 \, share fly fishing stories\, hear club updates\, and get involved in upc
 oming events and activities. Come along and be part of the conversation!
CATEGORIES:Meeting
LOCATION:Northern Suburbs Fly Fishing Club\, 649 Yan Yean Rd\, Yarrambat \,
  VIC \, 3091\, Australia
GEO:-37.627036;145.132567
X-APPLE-STRUCTURED-LOCATION;VALUE=URI;X-ADDRESS=649 Yan Yean Rd\, Yarrambat
  \, VIC \, 3091\, Australia;X-APPLE-RADIUS=100;X-TITLE=Northern Suburbs Fl
 y Fishing Club:geo:-37.627036,145.132567
END:VEVENT
BEGIN:VTIMEZONE
TZID:Australia/Melbourne
X-LIC-LOCATION:Australia/Melbourne
BEGIN:DAYLIGHT
DTSTART:20251005T030000
TZOFFSETFROM:+1000
TZOFFSETTO:+1100
TZNAME:AEDT
END:DAYLIGHT
END:VTIMEZONE
END:VCALENDAR